BEGIN:VCALENDAR
VERSION:2.0
PRODID:-//stmarysparish.org//eCatholic//EN
X-WR-TIMEZONE:LocalTZ
BEGIN:VTIMEZONE
TZID:LocalTZ
X-LIC-LOCATION:LocalTZ
BEGIN:DAYLIGHT
TZOFFSETFROM:-0500
TZOFFSETTO:-0400
TZNAME:LocalTZ
DTSTART:19700308T020000
RRULE:FREQ=YEARLY;BYMONTH=3;BYDAY=2SU
END:DAYLIGHT
BEGIN:STANDARD
TZOFFSETFROM:-0400
TZOFFSETTO:-0500
TZNAME:LocalTZ
DTSTART:19701101T020000
RRULE:FREQ=YEARLY;BYMONTH=11;BYDAY=1SU
END:STANDARD
END:VTIMEZONE
BEGIN:VEVENT
UID:2865970@stmarysparish.org
DTSTAMP:20260420T201909Z
DTSTART:20260520T040000
DTEND:20260520T050000
RRULE:FREQ=MONTHLY;UNTIL=20260618;BYDAY=WE;BYSETPOS=3
EXDATE:20260121T040000
SUMMARY:Parish Outreach - Mustard Seed
DESCRIPTION:St. Mary’s Parish serves at the Mustard Seed on the third Wedn
 esday of every month.   You can register at https://volunteersignup.org/AX
 AAD
END:VEVENT
BEGIN:VEVENT
UID:2915102@stmarysparish.org
DTSTAMP:20260420T201909Z
DTSTART;VALUE=DATE:20260501
DTEND;VALUE=DATE:20260502
RRULE:FREQ=MONTHLY;UNTIL=20260613;BYDAY=FR;BYSETPOS=1
SUMMARY:Novena to the Most Sacred Heart of Jesus
DESCRIPTION:A nine month Novena to the Most Sacred Heart of Jesus will tak
 e place on the First Friday of the month after the 8:30 am Mass beginning 
 on October 3rd.  These prayers offered over the period of nine months will
  lead up to Feast of the Most Sacred Heart of Jesus on June 12\, 2026.
END:VEVENT
END:VCALENDAR
